BEGIN:VCALENDAR
VERSION:2.0
PRODID:-//Hespert - ECPv6.8.3//NONSGML v1.0//EN
CALSCALE:GREGORIAN
METHOD:PUBLISH
X-WR-CALNAME:Hespert
X-ORIGINAL-URL:http://hespert.de
X-WR-CALDESC:Veranstaltungen für Hespert
REFRESH-INTERVAL;VALUE=DURATION:PT1H
X-Robots-Tag:noindex
X-PUBLISHED-TTL:PT1H
BEGIN:VTIMEZONE
TZID:UTC
BEGIN:STANDARD
TZOFFSETFROM:+0000
TZOFFSETTO:+0000
TZNAME:UTC
DTSTART:20240101T000000
END:STANDARD
END:VTIMEZONE
BEGIN:VEVENT
DTSTART;TZID=UTC:20240330T100000
DTEND;TZID=UTC:20240330T170000
DTSTAMP:20260425T131255
CREATED:20240310T193130Z
LAST-MODIFIED:20240310T193130Z
UID:229-1711792800-1711818000@hespert.de
SUMMARY:Osterfeuer: Sammlung mit Traktoren\, Aufbau
DESCRIPTION:Am “Ostersamstag” treffen sich wie jedes Jahr alle Helfer und Helferinnen zum Einsammeln des Astschnitts im Dorf und zum Aufbau des Osterfeuers an der Skihütte am Rodelhang. \nTreffpunkt: Skihütte am Rodelhang
URL:http://hespert.de/event/osterfeuer-sammlung-mit-traktoren-aufbau/
LOCATION:Skihütte am Rodelhang\, Hespert\, Nordrhein-Westfalen\, 51580\, Deutschland
END:VEVENT
END:VCALENDAR