BEGIN:VCALENDAR
VERSION:2.0
PRODID:-//Hespert - ECPv6.8.3//NONSGML v1.0//EN
CALSCALE:GREGORIAN
METHOD:PUBLISH
X-ORIGINAL-URL:http://hespert.de
X-WR-CALDESC:Veranstaltungen für Hespert
REFRESH-INTERVAL;VALUE=DURATION:PT1H
X-Robots-Tag:noindex
X-PUBLISHED-TTL:PT1H
BEGIN:VTIMEZONE
TZID:UTC
BEGIN:STANDARD
TZOFFSETFROM:+0000
TZOFFSETTO:+0000
TZNAME:UTC
DTSTART:20240101T000000
END:STANDARD
END:VTIMEZONE
BEGIN:VEVENT
DTSTART;TZID=UTC:20240804T110000
DTEND;TZID=UTC:20240804T170000
DTSTAMP:20260423T032357
CREATED:20240310T194609Z
LAST-MODIFIED:20240310T194609Z
UID:242-1722769200-1722790800@hespert.de
SUMMARY:Dorffest / Sommerfest
DESCRIPTION:Frühshoppen\, Mittagessen\, Spaß für Kinder\, Kaffee und Kuchen u.v.m.
URL:http://hespert.de/event/dorffest-sommerfest/
LOCATION:Dorfplatz an der Silberkuhle\, An der Silberkuhle 13\, Hespert\, Nordrhein-Westfalen\, 51580\, Deutschland
END:VEVENT
END:VCALENDAR