BEGIN:VCALENDAR
VERSION:2.0
PRODID:-//Hespert - ECPv6.8.3//NONSGML v1.0//EN
CALSCALE:GREGORIAN
METHOD:PUBLISH
X-WR-CALNAME:Hespert
X-ORIGINAL-URL:http://hespert.de
X-WR-CALDESC:Veranstaltungen für Hespert
REFRESH-INTERVAL;VALUE=DURATION:PT1H
X-Robots-Tag:noindex
X-PUBLISHED-TTL:PT1H
BEGIN:VTIMEZONE
TZID:UTC
BEGIN:STANDARD
TZOFFSETFROM:+0000
TZOFFSETTO:+0000
TZNAME:UTC
DTSTART:20240101T000000
END:STANDARD
END:VTIMEZONE
BEGIN:VEVENT
DTSTART;TZID=UTC:20241130T150000
DTEND;TZID=UTC:20241130T170000
DTSTAMP:20260422T193136
CREATED:20241124T203454Z
LAST-MODIFIED:20241124T203454Z
UID:379-1732978800-1732986000@hespert.de
SUMMARY:Weihnachtsfeier für Senioren
DESCRIPTION:Wann? Samstag\, 30.11.2024 um 15:00 Uhr\nWo? Restaurant Ballebäuschen\, Hasseler Str. 10\, Hespert \nDie Schoko-Weihnachtsmänner lächeln uns aus den Verkaufsregalen an und die Tage werden immer kürzer – ein untrügliches Zeichen\, dass Weihnachten nicht mehr weit ist.\nWir möchten Euch auch in diesem Jahr wieder zu einer Weihnachtsfeier einladen!\nAchtung: Anmeldung erforderlich!\nUm die Feier besser planen zu können\, bitten wir Euch um Eure Anmeldung bis zum 25.11.2024 bei Peter Günther. \nWeihnachtsfeier 2024 Einladung
URL:http://hespert.de/event/weihnachtsfeier-fuer-senioren-2/
LOCATION:Restaurant Ballebäuschen\, Hasseler Straße 10\, Hespert\, 51580
END:VEVENT
BEGIN:VEVENT
DTSTART;TZID=UTC:20241130T190000
DTEND;TZID=UTC:20241130T203000
DTSTAMP:20260422T193136
CREATED:20241124T202606Z
LAST-MODIFIED:20241124T202716Z
UID:370-1732993200-1732998600@hespert.de
SUMMARY:Schuberts WINTERREISE
DESCRIPTION:„Die Winterreise“- Schuberts Meisterwerk in unerhörtem Gewand. Keine Note\, keine Artikulation wurde verrückt. Keine Sinnentfremdung von musikalischen oder literarischen Text fand statt bei diesem ansonsten recht waghalsigen Versuch ganz auf ein Tasteninstrument zu verzichten. Die Transkription des Klavierparts für Klarinette\, Viola und Kontrabass unterstützt die klanglich variationsreiche Farbigkeit und Gefühlswelt der original belassenen Lieder. \nFlyer
URL:http://hespert.de/event/schuberts-winterreise/
LOCATION:Kunst Kabinet Hespert\, Platz der Künste 1\, Hespert\, Nordrhein-Westfalen\, 51580\, Germany
END:VEVENT
END:VCALENDAR