BEGIN:VCALENDAR
VERSION:2.0
PRODID:-//Hespert - ECPv6.8.3//NONSGML v1.0//EN
CALSCALE:GREGORIAN
METHOD:PUBLISH
X-ORIGINAL-URL:http://hespert.de
X-WR-CALDESC:Veranstaltungen für Hespert
REFRESH-INTERVAL;VALUE=DURATION:PT1H
X-Robots-Tag:noindex
X-PUBLISHED-TTL:PT1H
BEGIN:VTIMEZONE
TZID:UTC
BEGIN:STANDARD
TZOFFSETFROM:+0000
TZOFFSETTO:+0000
TZNAME:UTC
DTSTART:20230101T000000
END:STANDARD
END:VTIMEZONE
BEGIN:VEVENT
DTSTART;TZID=UTC:20231202T150000
DTEND;TZID=UTC:20231202T170000
DTSTAMP:20260425T151935
CREATED:20230918T200006Z
LAST-MODIFIED:20230918T200212Z
UID:89-1701529200-1701536400@hespert.de
SUMMARY:Weihnachtsfeier für Senioren
DESCRIPTION:Traditionelle Weihnachtsfeier für Senioren im Restaurant Ballebäuschen \nUm 15.00 Uhr gehts los.
URL:http://hespert.de/event/weihnachtsfeier-fuer-senioren/
LOCATION:Restaurant Ballebäuschen\, Hasseler Straße 10\, Hespert\, 51580
END:VEVENT
BEGIN:VEVENT
DTSTART;TZID=UTC:20231209T140000
DTEND;TZID=UTC:20231209T170000
DTSTAMP:20260425T151935
CREATED:20230918T200152Z
LAST-MODIFIED:20231113T130238Z
UID:92-1702130400-1702141200@hespert.de
SUMMARY:Nikolausfeier für Kinder
DESCRIPTION:Traditionelle Nikolausfeier für Kinder im Restaurant Ballebäuschen. \nBeginn: 14.00 Uhr \nAnmeldung bis 01.12.2023 bei Sarah Lorenz-Siebert. \n \n 
URL:http://hespert.de/event/nikolausfeier-fuer-kinder/
LOCATION:Restaurant Ballebäuschen\, Hasseler Straße 10\, Hespert\, 51580
END:VEVENT
BEGIN:VEVENT
DTSTART;TZID=UTC:20231224T204500
DTEND;TZID=UTC:20231224T213000
DTSTAMP:20260425T151935
CREATED:20230918T200520Z
LAST-MODIFIED:20230918T200520Z
UID:94-1703450700-1703453400@hespert.de
SUMMARY:Weihnachtsläuten - Weihnachtssingen
DESCRIPTION:Wie jedes Jahr findet am heiligen Abend wieder ein gemeinsames Weihnachtslieder singen statt. \nBeginn: 20.45 Uhr
URL:http://hespert.de/event/weihnachtslaeuten-weihnachtssingen/
LOCATION:Feuerwehrturm\, Glockenweg 7\, Hespert\, 51580
END:VEVENT
END:VCALENDAR