BEGIN:VCALENDAR
VERSION:2.0
PRODID:-//Hespert - ECPv6.8.3//NONSGML v1.0//EN
CALSCALE:GREGORIAN
METHOD:PUBLISH
X-ORIGINAL-URL:http://hespert.de
X-WR-CALDESC:Veranstaltungen für Hespert
REFRESH-INTERVAL;VALUE=DURATION:PT1H
X-Robots-Tag:noindex
X-PUBLISHED-TTL:PT1H
BEGIN:VTIMEZONE
TZID:UTC
BEGIN:STANDARD
TZOFFSETFROM:+0000
TZOFFSETTO:+0000
TZNAME:UTC
DTSTART:20240101T000000
END:STANDARD
END:VTIMEZONE
BEGIN:VEVENT
DTSTART;TZID=UTC:20241026T190000
DTEND;TZID=UTC:20241026T230000
DTSTAMP:20260422T220508
CREATED:20241003T143829Z
LAST-MODIFIED:20241003T143829Z
UID:353-1729969200-1729983600@hespert.de
SUMMARY:Kölscher Abend am Dorfplatz
DESCRIPTION:Am 26.10. um 19.00 Uhr veranstaltet die Dorfgemeinschaft einen Kölschen Abend auf dem Dorfplatz in der Silberkuhle. \nMit Rievkooche und kölsche Musik. 🙂 \nHier gehts zur Anmeldung: \nhttps://hespert.de/uncategorized/anmeldung-zum-koelschen-abend-am-26-10/
URL:http://hespert.de/event/koelscher-abend-am-dorfplatz/
LOCATION:Dorfplatz an der Silberkuhle\, An der Silberkuhle 13\, Hespert\, Nordrhein-Westfalen\, 51580\, Deutschland
END:VEVENT
END:VCALENDAR